BEGIN:VCALENDAR
VERSION:2.0
PRODID:-//wp-events-plugin.com//7.2.3.1//EN
TZID:Europe/Berlin
X-WR-TIMEZONE:Europe/Berlin
BEGIN:VEVENT
UID:75@stadtkapelle-friedberg.de
DTSTART;TZID=Europe/Berlin:20260530T200000
DTEND;TZID=Europe/Berlin:20260530T220000
DTSTAMP:20260321T145227Z
URL:https://www.stadtkapelle-friedberg.de/events/fruehjahrskonzert-2026-sa
 ve-the-date/
SUMMARY:Frühjahrskonzert 2026 - Das (Un-)Fassbare
DESCRIPTION:Erleben Sie einen Abend voller Klang\, Fantasie und Geschichte:
  Beim Frühjahrskonzert 2026 der Stadtkapelle Friedberg entführt Sie das 
 Orchester unter dem Motto „Das (Un-)Fassbare“ in musikalische Welten z
 wischen Legende und Imagination.\n\nFreuen Sie sich auf beeindruckende sin
 fonische Blasmusik – von der farbenreichen Klangwelt in Imagasy von Thie
 mo Kraas über die dramatische Geschichte der Familie der Borgia in The Bo
 rgias von Otto M. Schwarz bis hin zu einem mitreißenden Medley aus Aladdi
 n.\n\nLassen Sie sich von Musik inspirieren\, die von mächtigen historisc
 hen Persönlichkeiten ebenso erzählt wie von fantastischen Geschichten un
 d grenzenloser Vorstellungskraft.\n\n📅 30. Mai 2026\, 20:00 Uhr\n📍 S
 tadthalle Friedberg\n\nSichern Sie sich jetzt Ihre Tickets und erleben Sie
  einen Konzertabend\, der das Fassbare und das Unfassbare musikalisch vere
 int:\n\nhttps://pretix.eu/StadtkapelleFB/xqcrk/\n\n&nbsp\;\n\n
LOCATION:Stadthalle Friedberg\, Am Seebach 2\, Friedberg\, Hessen\, 61169 \
 , Deutschland
X-APPLE-STRUCTURED-LOCATION;VALUE=URI;X-ADDRESS=Am Seebach 2\, Friedberg\, 
 Hessen\, 61169 \, Deutschland;X-APPLE-RADIUS=100;X-TITLE=Stadthalle Friedb
 erg:geo:0,0
END:VEVENT
BEGIN:VTIMEZONE
TZID:Europe/Berlin
X-LIC-LOCATION:Europe/Berlin
BEGIN:DAYLIGHT
DTSTART:20260329T030000
TZOFFSETFROM:+0100
TZOFFSETTO:+0200
TZNAME:CEST
END:DAYLIGHT
END:VTIMEZONE
END:VCALENDAR