BEGIN:VCALENDAR
VERSION:2.0
PRODID:-//wp-events-plugin.com//7.2.3.1//EN
TZID:Europe/Berlin
X-WR-TIMEZONE:Europe/Berlin
BEGIN:VEVENT
UID:76@stadtkapelle-friedberg.de
DTSTART;TZID=Europe/Berlin:20261213T170000
DTEND;TZID=Europe/Berlin:20261213T183000
DTSTAMP:20260309T093412Z
URL:https://www.stadtkapelle-friedberg.de/events/festliches-konzert-2026-s
 ave-the-date/
SUMMARY:Festliches Konzert 2026 - Save the Date
DESCRIPTION:
LOCATION:Heilig-Geist-Kirche\, Leonhardstraße 24\, Friedberg\, Hessen\, 61
 169 \, Deutschland
X-APPLE-STRUCTURED-LOCATION;VALUE=URI;X-ADDRESS=Leonhardstraße 24\, Friedb
 erg\, Hessen\, 61169 \, Deutschland;X-APPLE-RADIUS=100;X-TITLE=Heilig-Geis
 t-Kirche:geo:0,0
END:VEVENT
BEGIN:VTIMEZONE
TZID:Europe/Berlin
X-LIC-LOCATION:Europe/Berlin
BEGIN:STANDARD
DTSTART:20261025T020000
TZOFFSETFROM:+0200
TZOFFSETTO:+0100
TZNAME:CET
END:STANDARD
END:VTIMEZONE
END:VCALENDAR